Package: rawrr Version: 1.14.0 Command: rm -rf rawrr.buildbin-libdir && mkdir rawrr.buildbin-libdir && /Users/biocbuild/BBS/utils/build-universal.sh rawrr_1.14.0.tar.gz /Library/Frameworks/R.framework/Resources/bin/R rawrr.buildbin-libdir StartedAt: 2025-02-01 16:22:11 -0500 (Sat, 01 Feb 2025) EndedAt: 2025-02-01 16:22:15 -0500 (Sat, 01 Feb 2025) EllapsedTime: 4.4 seconds RetCode: 0 Status: OK PackageFile: rawrr_1.14.0.tgz PackageFileSize: 1.992 MiB