Package: randPack Version: 1.52.0 Command: /home/biocbuild/R/R/bin/R CMD check --install=check:randPack.install-out.txt --library=/home/biocbuild/R/R/site-library --no-vignettes --timings randPack_1.52.0.tar.gz StartedAt: 2025-01-31 09:30:17 -0000 (Fri, 31 Jan 2025) EndedAt: 2025-01-31 09:30:44 -0000 (Fri, 31 Jan 2025) EllapsedTime: 27.0 seconds RetCode: 0 Status: OK CheckDir: randPack.Rcheck Warnings: 0