Package: rScudo Version: 1.22.0 Command: chmod a+r rScudo -R && F:\biocbuild\bbs-3.20-bioc\R\bin\R.exe CMD build --keep-empty-dirs --no-resave-data rScudo StartedAt: 2025-01-30 21:31:28 -0500 (Thu, 30 Jan 2025) EndedAt: 2025-01-30 21:33:48 -0500 (Thu, 30 Jan 2025) EllapsedTime: 140.3 seconds RetCode: 0 Status: OK PackageFile: rScudo_1.22.0.tar.gz PackageFileSize: 387.9 KiB