Package: rScudo Version: 1.22.0 Command: /Library/Frameworks/R.framework/Resources/bin/R CMD check --install=check:rScudo.install-out.txt --library=/Library/Frameworks/R.framework/Resources/library --no-vignettes --timings rScudo_1.22.0.tar.gz StartedAt: 2025-02-01 07:25:45 -0500 (Sat, 01 Feb 2025) EndedAt: 2025-02-01 07:26:31 -0500 (Sat, 01 Feb 2025) EllapsedTime: 45.5 seconds RetCode: 0 Status: OK CheckDir: rScudo.Rcheck Warnings: 0