Package: rGREAT Version: 2.8.0 Command: /Library/Frameworks/R.framework/Resources/bin/R CMD build --keep-empty-dirs --no-resave-data rGREAT StartedAt: 2025-01-31 06:24:41 -0500 (Fri, 31 Jan 2025) EndedAt: 2025-01-31 06:25:38 -0500 (Fri, 31 Jan 2025) EllapsedTime: 56.9 seconds RetCode: 0 Status: OK PackageFile: rGREAT_2.8.0.tar.gz PackageFileSize: 2.754 MiB