Package: rCGH Version: 1.36.0 Command: rm -rf rCGH.buildbin-libdir && mkdir rCGH.buildbin-libdir && F:\biocbuild\bbs-3.20-bioc\R\bin\R.exe CMD INSTALL --build --library=rCGH.buildbin-libdir rCGH_1.36.0.tar.gz StartedAt: 2025-01-31 09:23:04 -0500 (Fri, 31 Jan 2025) EndedAt: 2025-01-31 09:24:30 -0500 (Fri, 31 Jan 2025) EllapsedTime: 85.5 seconds RetCode: 0 Status: OK PackageFile: rCGH_1.36.0.zip PackageFileSize: 4.775 MiB