Package: rBLAST Version: 1.2.0 Command: chmod a+r rBLAST -R && F:\biocbuild\bbs-3.20-bioc\R\bin\R.exe CMD build --keep-empty-dirs --no-resave-data rBLAST StartedAt: 2025-01-30 21:16:41 -0500 (Thu, 30 Jan 2025) EndedAt: 2025-01-30 21:16:58 -0500 (Thu, 30 Jan 2025) EllapsedTime: 17.2 seconds RetCode: 0 Status: OK PackageFile: rBLAST_1.2.0.tar.gz PackageFileSize: 24.79 KiB