Package: rBLAST Version: 1.2.0 Command: /home/biocbuild/bbs-3.20-bioc/R/bin/R CMD build --keep-empty-dirs --no-resave-data --md5 rBLAST StartedAt: 2025-01-30 18:44:13 -0500 (Thu, 30 Jan 2025) EndedAt: 2025-01-30 18:44:26 -0500 (Thu, 30 Jan 2025) EllapsedTime: 13.0 seconds RetCode: 0 Status: OK PackageFile: rBLAST_1.2.0.tar.gz PackageFileSize: 25.5 KiB