Package: rBLAST Version: 1.2.0 Command: /Library/Frameworks/R.framework/Resources/bin/R CMD INSTALL rBLAST StartedAt: 2025-01-30 15:41:50 -0500 (Thu, 30 Jan 2025) EndedAt: 2025-01-30 15:42:01 -0500 (Thu, 30 Jan 2025) EllapsedTime: 10.9 seconds RetCode: 0 Status: OK