Package: r3Cseq Version: 1.52.0 Command: /home/biocbuild/R/R/bin/R CMD check --install=check:r3Cseq.install-out.txt --library=/home/biocbuild/R/R/site-library --no-vignettes --timings r3Cseq_1.52.0.tar.gz StartedAt: 2025-01-31 09:28:17 -0000 (Fri, 31 Jan 2025) EndedAt: 2025-01-31 09:33:12 -0000 (Fri, 31 Jan 2025) EllapsedTime: 295.4 seconds RetCode: 0 Status: OK CheckDir: r3Cseq.Rcheck Warnings: 0