Package: r3Cseq Version: 1.52.0 Command: /Library/Frameworks/R.framework/Resources/bin/R CMD build --keep-empty-dirs --no-resave-data r3Cseq StartedAt: 2025-01-31 05:55:54 -0500 (Fri, 31 Jan 2025) EndedAt: 2025-01-31 05:58:32 -0500 (Fri, 31 Jan 2025) EllapsedTime: 157.9 seconds RetCode: 0 Status: OK PackageFile: r3Cseq_1.52.0.tar.gz PackageFileSize: 4.327 MiB