Package: r3Cseq Version: 1.52.0 Command: rm -rf r3Cseq.buildbin-libdir && mkdir r3Cseq.buildbin-libdir && /Users/biocbuild/BBS/utils/build-universal.sh r3Cseq_1.52.0.tar.gz /Library/Frameworks/R.framework/Resources/bin/R r3Cseq.buildbin-libdir StartedAt: 2025-02-01 16:20:40 -0500 (Sat, 01 Feb 2025) EndedAt: 2025-02-01 16:21:33 -0500 (Sat, 01 Feb 2025) EllapsedTime: 52.4 seconds RetCode: 0 Status: OK PackageFile: r3Cseq_1.52.0.tgz PackageFileSize: 2.945 MiB