Package: qsvaR Version: 1.10.0 Command: F:\biocbuild\bbs-3.20-bioc\R\bin\R.exe CMD check --no-multiarch --install=check:qsvaR.install-out.txt --library=F:\biocbuild\bbs-3.20-bioc\R\library --no-vignettes --timings qsvaR_1.10.0.tar.gz StartedAt: 2025-01-31 05:23:01 -0500 (Fri, 31 Jan 2025) EndedAt: 2025-01-31 05:27:19 -0500 (Fri, 31 Jan 2025) EllapsedTime: 257.9 seconds RetCode: 0 Status: OK CheckDir: qsvaR.Rcheck Warnings: 0