Package: qsvaR Version: 1.10.0 Command: chmod a+r qsvaR -R && F:\biocbuild\bbs-3.20-bioc\R\bin\R.exe CMD build --keep-empty-dirs --no-resave-data qsvaR StartedAt: 2025-01-30 21:10:13 -0500 (Thu, 30 Jan 2025) EndedAt: 2025-01-30 21:21:42 -0500 (Thu, 30 Jan 2025) EllapsedTime: 688.4 seconds RetCode: 0 Status: OK PackageFile: qsvaR_1.10.0.tar.gz PackageFileSize: 3.413 MiB