Package: qsvaR Version: 1.10.0 Command: rm -rf qsvaR.buildbin-libdir && mkdir qsvaR.buildbin-libdir && /Users/biocbuild/BBS/utils/build-universal.sh qsvaR_1.10.0.tar.gz /Library/Frameworks/R.framework/Resources/bin/R qsvaR.buildbin-libdir StartedAt: 2025-02-01 16:19:44 -0500 (Sat, 01 Feb 2025) EndedAt: 2025-02-01 16:20:23 -0500 (Sat, 01 Feb 2025) EllapsedTime: 39.6 seconds RetCode: 0 Status: OK PackageFile: qsvaR_1.10.0.tgz PackageFileSize: 3.563 MiB