Package: qsmooth Version: 1.22.0 Command: /home/biocbuild/bbs-3.20-bioc/R/bin/R CMD build --keep-empty-dirs --no-resave-data --md5 qsmooth StartedAt: 2025-01-30 18:40:55 -0500 (Thu, 30 Jan 2025) EndedAt: 2025-01-30 18:41:54 -0500 (Thu, 30 Jan 2025) EllapsedTime: 59.1 seconds RetCode: 0 Status: OK PackageFile: qsmooth_1.22.0.tar.gz PackageFileSize: 1.29 MiB