Package: qsea Version: 1.32.0 Command: /home/biocbuild/R/R/bin/R CMD check --install=check:qsea.install-out.txt --library=/home/biocbuild/R/R/site-library --no-vignettes --timings qsea_1.32.0.tar.gz StartedAt: 2025-01-31 09:24:53 -0000 (Fri, 31 Jan 2025) EndedAt: 2025-01-31 09:30:20 -0000 (Fri, 31 Jan 2025) EllapsedTime: 327.3 seconds RetCode: 0 Status: WARNINGS CheckDir: qsea.Rcheck Warnings: 1