Package: qsea Version: 1.32.0 Command: /home/biocbuild/R/R/bin/R CMD build --keep-empty-dirs --no-resave-data qsea StartedAt: 2025-01-31 01:55:53 -0000 (Fri, 31 Jan 2025) EndedAt: 2025-01-31 01:57:03 -0000 (Fri, 31 Jan 2025) EllapsedTime: 70.1 seconds RetCode: 0 Status: OK PackageFile: qsea_1.32.0.tar.gz PackageFileSize: 676.7 KiB