Package: qsea Version: 1.32.0 Command: F:\biocbuild\bbs-3.20-bioc\R\bin\R.exe CMD INSTALL qsea StartedAt: 2025-01-30 16:12:41 -0500 (Thu, 30 Jan 2025) EndedAt: 2025-01-30 16:13:42 -0500 (Thu, 30 Jan 2025) EllapsedTime: 61.3 seconds RetCode: 0 Status: OK