Package: qsea Version: 1.32.0 Command: /home/biocbuild/bbs-3.20-bioc/R/bin/R CMD build --keep-empty-dirs --no-resave-data --md5 qsea StartedAt: 2025-01-30 18:40:54 -0500 (Thu, 30 Jan 2025) EndedAt: 2025-01-30 18:42:03 -0500 (Thu, 30 Jan 2025) EllapsedTime: 69.1 seconds RetCode: 0 Status: OK PackageFile: qsea_1.32.0.tar.gz PackageFileSize: 861.3 KiB