Package: qsea Version: 1.32.0 Command: /Library/Frameworks/R.framework/Resources/bin/R CMD INSTALL qsea StartedAt: 2025-01-30 15:40:41 -0500 (Thu, 30 Jan 2025) EndedAt: 2025-01-30 15:41:49 -0500 (Thu, 30 Jan 2025) EllapsedTime: 68.1 seconds RetCode: 0 Status: OK