Package: qsea Version: 1.32.0 Command: /Library/Frameworks/R.framework/Resources/bin/R CMD check --install=check:qsea.install-out.txt --library=/Library/Frameworks/R.framework/Resources/library --no-vignettes --timings qsea_1.32.0.tar.gz StartedAt: 2025-01-31 08:28:05 -0500 (Fri, 31 Jan 2025) EndedAt: 2025-01-31 08:37:08 -0500 (Fri, 31 Jan 2025) EllapsedTime: 542.2 seconds RetCode: 0 Status: WARNINGS CheckDir: qsea.Rcheck Warnings: 1