Package: qsea Version: 1.32.0 Command: /Library/Frameworks/R.framework/Resources/bin/R CMD build --keep-empty-dirs --no-resave-data qsea StartedAt: 2025-01-30 22:02:04 -0500 (Thu, 30 Jan 2025) EndedAt: 2025-01-30 22:04:38 -0500 (Thu, 30 Jan 2025) EllapsedTime: 153.7 seconds RetCode: 0 Status: OK PackageFile: qsea_1.32.0.tar.gz PackageFileSize: 824.9 KiB