Package: qsea Version: 1.32.0 Command: rm -rf qsea.buildbin-libdir && mkdir qsea.buildbin-libdir && /Users/biocbuild/BBS/utils/build-universal.sh qsea_1.32.0.tar.gz /Library/Frameworks/R.framework/Resources/bin/R qsea.buildbin-libdir StartedAt: 2025-01-31 13:26:29 -0500 (Fri, 31 Jan 2025) EndedAt: 2025-01-31 13:27:43 -0500 (Fri, 31 Jan 2025) EllapsedTime: 73.6 seconds RetCode: 0 Status: OK PackageFile: qsea_1.32.0.tgz PackageFileSize: 1.107 MiB