Package: qsea Version: 1.32.0 Command: /Library/Frameworks/R.framework/Resources/bin/R CMD INSTALL qsea StartedAt: 2025-01-30 16:11:01 -0500 (Thu, 30 Jan 2025) EndedAt: 2025-01-30 16:11:41 -0500 (Thu, 30 Jan 2025) EllapsedTime: 40.3 seconds RetCode: 0 Status: OK