Package: qsea Version: 1.32.0 Command: /Library/Frameworks/R.framework/Resources/bin/R CMD build --keep-empty-dirs --no-resave-data qsea StartedAt: 2025-01-31 05:50:06 -0500 (Fri, 31 Jan 2025) EndedAt: 2025-01-31 05:51:17 -0500 (Fri, 31 Jan 2025) EllapsedTime: 71.8 seconds RetCode: 0 Status: OK PackageFile: qsea_1.32.0.tar.gz PackageFileSize: 825 KiB