Package: qpgraph Version: 2.40.0 Command: /home/biocbuild/R/R/bin/R CMD check --install=check:qpgraph.install-out.txt --library=/home/biocbuild/R/R/site-library --no-vignettes --timings qpgraph_2.40.0.tar.gz StartedAt: 2024-11-20 11:18:55 -0000 (Wed, 20 Nov 2024) EndedAt: 2024-11-20 11:25:45 -0000 (Wed, 20 Nov 2024) EllapsedTime: 409.7 seconds RetCode: 0 Status: OK CheckDir: qpgraph.Rcheck Warnings: 0