Package: qmtools Version: 1.10.0 Command: F:\biocbuild\bbs-3.20-bioc\R\bin\R.exe CMD check --no-multiarch --install=check:qmtools.install-out.txt --library=F:\biocbuild\bbs-3.20-bioc\R\library --no-vignettes --timings qmtools_1.10.0.tar.gz StartedAt: 2025-01-31 05:21:55 -0500 (Fri, 31 Jan 2025) EndedAt: 2025-01-31 05:25:52 -0500 (Fri, 31 Jan 2025) EllapsedTime: 237.5 seconds RetCode: 0 Status: OK CheckDir: qmtools.Rcheck Warnings: 0