Package: pvca Version: 1.46.0 Command: /home/biocbuild/R/R/bin/R CMD check --install=check:pvca.install-out.txt --library=/home/biocbuild/R/R/site-library --no-vignettes --timings pvca_1.46.0.tar.gz StartedAt: 2025-01-31 09:22:24 -0000 (Fri, 31 Jan 2025) EndedAt: 2025-01-31 09:23:43 -0000 (Fri, 31 Jan 2025) EllapsedTime: 79.1 seconds RetCode: 0 Status: OK CheckDir: pvca.Rcheck Warnings: 0