Package: pvac Version: 1.54.0 Command: chmod a+r pvac -R && F:\biocbuild\bbs-3.20-bioc\R\bin\R.exe CMD build --keep-empty-dirs --no-resave-data pvac StartedAt: 2025-01-30 21:08:05 -0500 (Thu, 30 Jan 2025) EndedAt: 2025-01-30 21:09:02 -0500 (Thu, 30 Jan 2025) EllapsedTime: 56.8 seconds RetCode: 0 Status: OK PackageFile: pvac_1.54.0.tar.gz PackageFileSize: 128.8 KiB