Package: pvac Version: 1.54.0 Command: /home/biocbuild/bbs-3.20-bioc/R/bin/R CMD build --keep-empty-dirs --no-resave-data --md5 pvac StartedAt: 2025-01-30 18:39:49 -0500 (Thu, 30 Jan 2025) EndedAt: 2025-01-30 18:40:31 -0500 (Thu, 30 Jan 2025) EllapsedTime: 42.0 seconds RetCode: 0 Status: OK PackageFile: pvac_1.54.0.tar.gz PackageFileSize: 259.3 KiB