Package: pvac Version: 1.54.0 Command: /Library/Frameworks/R.framework/Resources/bin/R CMD build --keep-empty-dirs --no-resave-data pvac StartedAt: 2025-01-30 21:59:54 -0500 (Thu, 30 Jan 2025) EndedAt: 2025-01-30 22:01:26 -0500 (Thu, 30 Jan 2025) EllapsedTime: 92.2 seconds RetCode: 0 Status: OK PackageFile: pvac_1.54.0.tar.gz PackageFileSize: 258 KiB