Package: pvac Version: 1.54.0 Command: rm -rf pvac.buildbin-libdir && mkdir pvac.buildbin-libdir && /Users/biocbuild/BBS/utils/build-universal.sh pvac_1.54.0.tar.gz /Library/Frameworks/R.framework/Resources/bin/R pvac.buildbin-libdir StartedAt: 2025-01-31 13:25:49 -0500 (Fri, 31 Jan 2025) EndedAt: 2025-01-31 13:25:56 -0500 (Fri, 31 Jan 2025) EllapsedTime: 7.6 seconds RetCode: 0 Status: OK PackageFile: pvac_1.54.0.tgz PackageFileSize: 253.4 KiB