Package: pvac Version: 1.54.0 Command: /home/biocbuild/R/R/bin/R CMD build --keep-empty-dirs --no-resave-data pvac StartedAt: 2024-11-20 03:06:02 -0000 (Wed, 20 Nov 2024) EndedAt: 2024-11-20 03:07:04 -0000 (Wed, 20 Nov 2024) EllapsedTime: 62.1 seconds RetCode: 0 Status: OK PackageFile: pvac_1.54.0.tar.gz PackageFileSize: 252.1 KiB