Package: pvac Version: 1.54.0 Command: /Library/Frameworks/R.framework/Resources/bin/R CMD build --keep-empty-dirs --no-resave-data pvac StartedAt: 2025-01-31 05:45:53 -0500 (Fri, 31 Jan 2025) EndedAt: 2025-01-31 05:46:44 -0500 (Fri, 31 Jan 2025) EllapsedTime: 50.3 seconds RetCode: 0 Status: OK PackageFile: pvac_1.54.0.tar.gz PackageFileSize: 258.1 KiB