Package: puma Version: 3.48.0 Command: /home/biocbuild/bbs-3.20-bioc/R/bin/R CMD INSTALL puma StartedAt: 2025-01-30 15:21:02 -0500 (Thu, 30 Jan 2025) EndedAt: 2025-01-30 15:21:45 -0500 (Thu, 30 Jan 2025) EllapsedTime: 42.8 seconds RetCode: 0 Status: OK