Package: puma Version: 3.48.0 Command: /Library/Frameworks/R.framework/Resources/bin/R CMD build --keep-empty-dirs --no-resave-data puma StartedAt: 2025-01-31 05:45:46 -0500 (Fri, 31 Jan 2025) EndedAt: 2025-01-31 05:47:34 -0500 (Fri, 31 Jan 2025) EllapsedTime: 107.4 seconds RetCode: 0 Status: OK PackageFile: puma_3.48.0.tar.gz PackageFileSize: 3.405 MiB