Package: psygenet2r Version: 1.38.0 Command: /Library/Frameworks/R.framework/Resources/bin/R CMD INSTALL psygenet2r StartedAt: 2025-01-30 15:51:28 -0500 (Thu, 30 Jan 2025) EndedAt: 2025-01-30 15:52:10 -0500 (Thu, 30 Jan 2025) EllapsedTime: 41.9 seconds RetCode: 0 Status: OK