Package: psichomics Version: 1.32.0 Command: /home/biocbuild/bbs-3.20-bioc/R/bin/R CMD INSTALL psichomics StartedAt: 2025-01-30 15:42:04 -0500 (Thu, 30 Jan 2025) EndedAt: 2025-01-30 15:43:44 -0500 (Thu, 30 Jan 2025) EllapsedTime: 99.8 seconds RetCode: 0 Status: OK