Package: progeny Version: 1.28.0 Command: /Library/Frameworks/R.framework/Resources/bin/R CMD INSTALL progeny StartedAt: 2025-01-30 15:34:53 -0500 (Thu, 30 Jan 2025) EndedAt: 2025-01-30 15:35:10 -0500 (Thu, 30 Jan 2025) EllapsedTime: 17.9 seconds RetCode: 0 Status: OK