Package: profileplyr Version: 1.22.0 Command: /Library/Frameworks/R.framework/Resources/bin/R CMD build --keep-empty-dirs --no-resave-data profileplyr StartedAt: 2025-01-31 05:39:06 -0500 (Fri, 31 Jan 2025) EndedAt: 2025-01-31 05:41:56 -0500 (Fri, 31 Jan 2025) EllapsedTime: 170.2 seconds RetCode: 0 Status: OK PackageFile: profileplyr_1.22.0.tar.gz PackageFileSize: 2.489 MiB