Package: preciseTAD Version: 1.16.0 Command: /home/biocbuild/bbs-3.20-bioc/R/bin/R CMD INSTALL preciseTAD StartedAt: 2025-01-30 15:50:51 -0500 (Thu, 30 Jan 2025) EndedAt: 2025-01-30 15:51:54 -0500 (Thu, 30 Jan 2025) EllapsedTime: 63.9 seconds RetCode: 0 Status: OK