Package: preciseTAD Version: 1.16.0 Command: /home/biocbuild/R/R/bin/R CMD check --install=check:preciseTAD.install-out.txt --library=/home/biocbuild/R/R/site-library --no-vignettes --timings preciseTAD_1.16.0.tar.gz StartedAt: 2024-11-20 11:08:53 -0000 (Wed, 20 Nov 2024) EndedAt: 2024-11-20 11:24:13 -0000 (Wed, 20 Nov 2024) EllapsedTime: 919.6 seconds RetCode: 0 Status: OK CheckDir: preciseTAD.Rcheck Warnings: 0