Package: prebs Version: 1.46.0 Command: /home/biocbuild/R/R/bin/R CMD INSTALL prebs StartedAt: 2025-01-30 20:55:36 -0000 (Thu, 30 Jan 2025) EndedAt: 2025-01-30 20:56:17 -0000 (Thu, 30 Jan 2025) EllapsedTime: 41.4 seconds RetCode: 0 Status: OK