Package: prebs Version: 1.46.0 Command: /Library/Frameworks/R.framework/Resources/bin/R CMD build --keep-empty-dirs --no-resave-data prebs StartedAt: 2025-01-31 05:34:09 -0500 (Fri, 31 Jan 2025) EndedAt: 2025-01-31 05:36:46 -0500 (Fri, 31 Jan 2025) EllapsedTime: 157.4 seconds RetCode: 0 Status: OK PackageFile: prebs_1.46.0.tar.gz PackageFileSize: 282.7 KiB