Package: pram Version: 1.22.0 Command: F:\biocbuild\bbs-3.20-bioc\R\bin\R.exe CMD INSTALL pram StartedAt: 2025-01-30 16:05:26 -0500 (Thu, 30 Jan 2025) EndedAt: 2025-01-30 16:06:28 -0500 (Thu, 30 Jan 2025) EllapsedTime: 61.8 seconds RetCode: 0 Status: OK