Package: pram Version: 1.22.0 Command: /home/biocbuild/bbs-3.20-bioc/R/bin/R CMD INSTALL pram StartedAt: 2025-01-30 15:19:11 -0500 (Thu, 30 Jan 2025) EndedAt: 2025-01-30 15:19:41 -0500 (Thu, 30 Jan 2025) EllapsedTime: 30.1 seconds RetCode: 0 Status: OK