Package: pram Version: 1.22.0 Command: /home/biocbuild/bbs-3.20-bioc/R/bin/R CMD check --install=check:pram.install-out.txt --library=/home/biocbuild/bbs-3.20-bioc/R/site-library --timings pram_1.22.0.tar.gz StartedAt: 2025-01-31 01:08:44 -0500 (Fri, 31 Jan 2025) EndedAt: 2025-01-31 01:12:21 -0500 (Fri, 31 Jan 2025) EllapsedTime: 217.2 seconds RetCode: 0 Status: OK CheckDir: pram.Rcheck Warnings: 0