Package: pram Version: 1.22.0 Command: /Library/Frameworks/R.framework/Resources/bin/R CMD INSTALL pram StartedAt: 2025-01-30 15:35:53 -0500 (Thu, 30 Jan 2025) EndedAt: 2025-01-30 15:37:01 -0500 (Thu, 30 Jan 2025) EllapsedTime: 68.2 seconds RetCode: 0 Status: OK