Package: pqsfinder Version: 2.22.0 Command: /home/biocbuild/R/R/bin/R CMD INSTALL pqsfinder StartedAt: 2025-01-30 20:14:24 -0000 (Thu, 30 Jan 2025) EndedAt: 2025-01-30 20:15:26 -0000 (Thu, 30 Jan 2025) EllapsedTime: 62.1 seconds RetCode: 0 Status: OK